BEGIN:VCALENDAR
VERSION:2.0
PRODID:-//Tjuchem - ECPv6.15.20//NONSGML v1.0//EN
CALSCALE:GREGORIAN
METHOD:PUBLISH
X-WR-CALNAME:Tjuchem
X-ORIGINAL-URL:https://tjuchem.net
X-WR-CALDESC:Evenementen voor Tjuchem
REFRESH-INTERVAL;VALUE=DURATION:PT1H
X-Robots-Tag:noindex
X-PUBLISHED-TTL:PT1H
BEGIN:VTIMEZONE
TZID:Europe/Paris
BEGIN:DAYLIGHT
TZOFFSETFROM:+0100
TZOFFSETTO:+0200
TZNAME:CEST
DTSTART:20250330T010000
END:DAYLIGHT
BEGIN:STANDARD
TZOFFSETFROM:+0200
TZOFFSETTO:+0100
TZNAME:CET
DTSTART:20251026T010000
END:STANDARD
BEGIN:DAYLIGHT
TZOFFSETFROM:+0100
TZOFFSETTO:+0200
TZNAME:CEST
DTSTART:20260329T010000
END:DAYLIGHT
BEGIN:STANDARD
TZOFFSETFROM:+0200
TZOFFSETTO:+0100
TZNAME:CET
DTSTART:20261025T010000
END:STANDARD
BEGIN:DAYLIGHT
TZOFFSETFROM:+0100
TZOFFSETTO:+0200
TZNAME:CEST
DTSTART:20270328T010000
END:DAYLIGHT
BEGIN:STANDARD
TZOFFSETFROM:+0200
TZOFFSETTO:+0100
TZNAME:CET
DTSTART:20271031T010000
END:STANDARD
END:VTIMEZONE
BEGIN:VEVENT
DTSTART;TZID=Europe/Paris:20260504T193000
DTEND;TZID=Europe/Paris:20260504T203000
DTSTAMP:20260425T143659
CREATED:20260402T204317Z
LAST-MODIFIED:20260402T204348Z
UID:1420-1777923000-1777926600@tjuchem.net
SUMMARY:Dodenherdenking
DESCRIPTION:
URL:https://tjuchem.net/event/dodenherdenking/
CATEGORIES:Activiteiten
ATTACH;FMTTYPE=image/jpeg:https://tjuchem.net/wp-content/uploads/2026/04/Dodenherdenking01.jpg
END:VEVENT
BEGIN:VEVENT
DTSTART;TZID=Europe/Paris:20260512T200000
DTEND;TZID=Europe/Paris:20260512T220000
DTSTAMP:20260425T143659
CREATED:20260402T205747Z
LAST-MODIFIED:20260402T205848Z
UID:1422-1778616000-1778623200@tjuchem.net
SUMMARY:Bestuursvergadering
DESCRIPTION:Het bestuur vergadert ongeveer eens per maand.Als u iets met het bestuur wilt bespreken kunt u zich aanmelden bij de voorzitter\, Tineke Zuidema (06 81775166\, na 18.00 uur).
URL:https://tjuchem.net/event/bestuursvergadering/
CATEGORIES:Bijeenkomsten
ATTACH;FMTTYPE=image/png:https://tjuchem.net/wp-content/uploads/2026/04/Vergadering01.png
END:VEVENT
BEGIN:VEVENT
DTSTART;TZID=Europe/Paris:20260602T180000
DTEND;TZID=Europe/Paris:20260602T210000
DTSTAMP:20260425T143659
CREATED:20260402T212523Z
LAST-MODIFIED:20260402T212523Z
UID:1459-1780423200-1780434000@tjuchem.net
SUMMARY:Oud papier
DESCRIPTION:Ook de komende periode wordt er weer oud papier en karton opgehaald in Tjuchem. De inzameling wordt verzorgd door vrijwilligers en de opbrengst komt volledig ten goede aan de Vereniging voor School en Dorpsbelangen Tjuchem. \n\n\n\nZet uw oud papiercontainer op de gebruikelijke plek aan de straat\, waar ook de andere containers staan. Let er wel op dat de container met het handvat naar de weg staat. Dat is net andersom dan normaal\, maar maakt het voor de ophalers een stuk gemakkelijker. \n\n\n\nTijdens de inzameling komen we regelmatig dozen tegen die leeg zijn of waar maar een klein beetje papier in zit. Vooral na periodes waarin veel pakketten worden bezorgd – bijvoorbeeld rond de feestdagen – kan dit extra voorkomen. We zijn ontzettend blij met het grote aanbod\, maar het lukt soms nauwelijks om alles in één container te krijgen. \n\n\n\nDaarom vragen we uw hulp: wilt u lege dozen zoveel mogelijk plat maken door ze te snijden of te scheuren en het papier zo compact mogelijk in de papiercontainer aanbieden? Mocht het een keer niet allemaal in de container passen\, dan mag u het ook in een doos naast de container zetten. Dit levert veel extra ruimte op in de container en maakt het werk voor de vrijwilligers een stuk makkelijker. \n\n\n\nLet er daarnaast op dat er alleen papier en karton wordt aangeboden. Laat bijvoorbeeld geen piepschuim of ander verpakkingsmateriaal in dozen zitten\, want als dat wordt aangetroffen kan de hele partij worden afgekeurd. \n\n\n\nAlvast hartelijk dank voor uw medewerking! \n\n\n\nOud papiercommissie PITS 2.0Contactpersoon: Aries van der HelmTel: 06 29235137
URL:https://tjuchem.net/event/oud-papier-2/
CATEGORIES:Oud papier
ATTACH;FMTTYPE=image/jpeg:https://tjuchem.net/wp-content/uploads/2026/04/Oud-papier-02.jpg
END:VEVENT
BEGIN:VEVENT
DTSTART;TZID=Europe/Paris:20260606T000000
DTEND;TZID=Europe/Paris:20260607T235959
DTSTAMP:20260425T143659
CREATED:20260311T082635Z
LAST-MODIFIED:20260406T125339Z
UID:1220-1780704000-1780876799@tjuchem.net
SUMMARY:Tjuchster Dörpsvermoak
DESCRIPTION:
URL:https://tjuchem.net/event/tjuchster-dorpsvermoak/
CATEGORIES:Activiteiten
ATTACH;FMTTYPE=image/jpeg:https://tjuchem.net/wp-content/uploads/2026/04/Tjuchster-Dorpsvermoak01-1.jpg
END:VEVENT
BEGIN:VEVENT
DTSTART;TZID=Europe/Paris:20260714T180000
DTEND;TZID=Europe/Paris:20260714T210000
DTSTAMP:20260425T143659
CREATED:20260402T212957Z
LAST-MODIFIED:20260402T212958Z
UID:1462-1784052000-1784062800@tjuchem.net
SUMMARY:Oud papier
DESCRIPTION:Ook de komende periode wordt er weer oud papier en karton opgehaald in Tjuchem. De inzameling wordt verzorgd door vrijwilligers en de opbrengst komt volledig ten goede aan de Vereniging voor School en Dorpsbelangen Tjuchem. \n\n\n\nZet uw oud papiercontainer op de gebruikelijke plek aan de straat\, waar ook de andere containers staan. Let er wel op dat de container met het handvat naar de weg staat. Dat is net andersom dan normaal\, maar maakt het voor de ophalers een stuk gemakkelijker. \n\n\n\nTijdens de inzameling komen we regelmatig dozen tegen die leeg zijn of waar maar een klein beetje papier in zit. Vooral na periodes waarin veel pakketten worden bezorgd – bijvoorbeeld rond de feestdagen – kan dit extra voorkomen. We zijn ontzettend blij met het grote aanbod\, maar het lukt soms nauwelijks om alles in één container te krijgen. \n\n\n\nDaarom vragen we uw hulp: wilt u lege dozen zoveel mogelijk plat maken door ze te snijden of te scheuren en het papier zo compact mogelijk in de papiercontainer aanbieden? Mocht het een keer niet allemaal in de container passen\, dan mag u het ook in een doos naast de container zetten. Dit levert veel extra ruimte op in de container en maakt het werk voor de vrijwilligers een stuk makkelijker. \n\n\n\nLet er daarnaast op dat er alleen papier en karton wordt aangeboden. Laat bijvoorbeeld geen piepschuim of ander verpakkingsmateriaal in dozen zitten\, want als dat wordt aangetroffen kan de hele partij worden afgekeurd. \n\n\n\nAlvast hartelijk dank voor uw medewerking! \n\n\n\nOud papiercommissie PITS 2.0Contactpersoon: Aries van der HelmTel: 06 29235137
URL:https://tjuchem.net/event/oud-papier-3/
CATEGORIES:Oud papier
ATTACH;FMTTYPE=image/jpeg:https://tjuchem.net/wp-content/uploads/2026/04/Oud-papier-1998-02.jpg
END:VEVENT
BEGIN:VEVENT
DTSTART;TZID=Europe/Paris:20260825T180000
DTEND;TZID=Europe/Paris:20260825T210000
DTSTAMP:20260425T143659
CREATED:20260402T213211Z
LAST-MODIFIED:20260402T213211Z
UID:1464-1787680800-1787691600@tjuchem.net
SUMMARY:Oud papier
DESCRIPTION:Ook de komende periode wordt er weer oud papier en karton opgehaald in Tjuchem. De inzameling wordt verzorgd door vrijwilligers en de opbrengst komt volledig ten goede aan de Vereniging voor School en Dorpsbelangen Tjuchem. \n\n\n\nZet uw oud papiercontainer op de gebruikelijke plek aan de straat\, waar ook de andere containers staan. Let er wel op dat de container met het handvat naar de weg staat. Dat is net andersom dan normaal\, maar maakt het voor de ophalers een stuk gemakkelijker. \n\n\n\nTijdens de inzameling komen we regelmatig dozen tegen die leeg zijn of waar maar een klein beetje papier in zit. Vooral na periodes waarin veel pakketten worden bezorgd – bijvoorbeeld rond de feestdagen – kan dit extra voorkomen. We zijn ontzettend blij met het grote aanbod\, maar het lukt soms nauwelijks om alles in één container te krijgen. \n\n\n\nDaarom vragen we uw hulp: wilt u lege dozen zoveel mogelijk plat maken door ze te snijden of te scheuren en het papier zo compact mogelijk in de papiercontainer aanbieden? Mocht het een keer niet allemaal in de container passen\, dan mag u het ook in een doos naast de container zetten. Dit levert veel extra ruimte op in de container en maakt het werk voor de vrijwilligers een stuk makkelijker. \n\n\n\nLet er daarnaast op dat er alleen papier en karton wordt aangeboden. Laat bijvoorbeeld geen piepschuim of ander verpakkingsmateriaal in dozen zitten\, want als dat wordt aangetroffen kan de hele partij worden afgekeurd. \n\n\n\nAlvast hartelijk dank voor uw medewerking! \n\n\n\nOud papiercommissie PITS 2.0Contactpersoon: Aries van der HelmTel: 06 29235137
URL:https://tjuchem.net/event/oud-papier-4/
CATEGORIES:Oud papier
ATTACH;FMTTYPE=image/jpeg:https://tjuchem.net/wp-content/uploads/2026/04/Oud-papier-1991-01.jpg
END:VEVENT
BEGIN:VEVENT
DTSTART;TZID=Europe/Paris:20261006T180000
DTEND;TZID=Europe/Paris:20261006T210000
DTSTAMP:20260425T143659
CREATED:20260402T213500Z
LAST-MODIFIED:20260402T213501Z
UID:1466-1791309600-1791320400@tjuchem.net
SUMMARY:Oud papier
DESCRIPTION:Ook de komende periode wordt er weer oud papier en karton opgehaald in Tjuchem. De inzameling wordt verzorgd door vrijwilligers en de opbrengst komt volledig ten goede aan de Vereniging voor School en Dorpsbelangen Tjuchem. \n\n\n\nZet uw oud papiercontainer op de gebruikelijke plek aan de straat\, waar ook de andere containers staan. Let er wel op dat de container met het handvat naar de weg staat. Dat is net andersom dan normaal\, maar maakt het voor de ophalers een stuk gemakkelijker. \n\n\n\nTijdens de inzameling komen we regelmatig dozen tegen die leeg zijn of waar maar een klein beetje papier in zit. Vooral na periodes waarin veel pakketten worden bezorgd – bijvoorbeeld rond de feestdagen – kan dit extra voorkomen. We zijn ontzettend blij met het grote aanbod\, maar het lukt soms nauwelijks om alles in één container te krijgen. \n\n\n\nDaarom vragen we uw hulp: wilt u lege dozen zoveel mogelijk plat maken door ze te snijden of te scheuren en het papier zo compact mogelijk in de papiercontainer aanbieden? Mocht het een keer niet allemaal in de container passen\, dan mag u het ook in een doos naast de container zetten. Dit levert veel extra ruimte op in de container en maakt het werk voor de vrijwilligers een stuk makkelijker. \n\n\n\nLet er daarnaast op dat er alleen papier en karton wordt aangeboden. Laat bijvoorbeeld geen piepschuim of ander verpakkingsmateriaal in dozen zitten\, want als dat wordt aangetroffen kan de hele partij worden afgekeurd. \n\n\n\nAlvast hartelijk dank voor uw medewerking! \n\n\n\nOud papiercommissie PITS 2.0Contactpersoon: Aries van der HelmTel: 06 29235137
URL:https://tjuchem.net/event/oud-papier-5/
CATEGORIES:Oud papier
ATTACH;FMTTYPE=image/jpeg:https://tjuchem.net/wp-content/uploads/2026/04/Oud-papier-2020-01.jpg
END:VEVENT
BEGIN:VEVENT
DTSTART;TZID=Europe/Paris:20261117T180000
DTEND;TZID=Europe/Paris:20261117T210000
DTSTAMP:20260425T143659
CREATED:20260402T214044Z
LAST-MODIFIED:20260402T214045Z
UID:1469-1794938400-1794949200@tjuchem.net
SUMMARY:Oud papier
DESCRIPTION:Ook de komende periode wordt er weer oud papier en karton opgehaald in Tjuchem. De inzameling wordt verzorgd door vrijwilligers en de opbrengst komt volledig ten goede aan de Vereniging voor School en Dorpsbelangen Tjuchem. \n\n\n\nZet uw oud papiercontainer op de gebruikelijke plek aan de straat\, waar ook de andere containers staan. Let er wel op dat de container met het handvat naar de weg staat. Dat is net andersom dan normaal\, maar maakt het voor de ophalers een stuk gemakkelijker. \n\n\n\nTijdens de inzameling komen we regelmatig dozen tegen die leeg zijn of waar maar een klein beetje papier in zit. Vooral na periodes waarin veel pakketten worden bezorgd – bijvoorbeeld rond de feestdagen – kan dit extra voorkomen. We zijn ontzettend blij met het grote aanbod\, maar het lukt soms nauwelijks om alles in één container te krijgen. \n\n\n\nDaarom vragen we uw hulp: wilt u lege dozen zoveel mogelijk plat maken door ze te snijden of te scheuren en het papier zo compact mogelijk in de papiercontainer aanbieden? Mocht het een keer niet allemaal in de container passen\, dan mag u het ook in een doos naast de container zetten. Dit levert veel extra ruimte op in de container en maakt het werk voor de vrijwilligers een stuk makkelijker. \n\n\n\nLet er daarnaast op dat er alleen papier en karton wordt aangeboden. Laat bijvoorbeeld geen piepschuim of ander verpakkingsmateriaal in dozen zitten\, want als dat wordt aangetroffen kan de hele partij worden afgekeurd. \n\n\n\nAlvast hartelijk dank voor uw medewerking! \n\n\n\nOud papiercommissie PITS 2.0Contactpersoon: Aries van der HelmTel: 06 29235137
URL:https://tjuchem.net/event/oud-papier-6/
CATEGORIES:Oud papier
ATTACH;FMTTYPE=image/jpeg:https://tjuchem.net/wp-content/uploads/2026/04/Oud-papier-1971-03.jpg
END:VEVENT
BEGIN:VEVENT
DTSTART;TZID=Europe/Paris:20261229T180000
DTEND;TZID=Europe/Paris:20261229T210000
DTSTAMP:20260425T143659
CREATED:20260402T214252Z
LAST-MODIFIED:20260402T214253Z
UID:1471-1798567200-1798578000@tjuchem.net
SUMMARY:Oud papier
DESCRIPTION:Ook de komende periode wordt er weer oud papier en karton opgehaald in Tjuchem. De inzameling wordt verzorgd door vrijwilligers en de opbrengst komt volledig ten goede aan de Vereniging voor School en Dorpsbelangen Tjuchem. \n\n\n\nZet uw oud papiercontainer op de gebruikelijke plek aan de straat\, waar ook de andere containers staan. Let er wel op dat de container met het handvat naar de weg staat. Dat is net andersom dan normaal\, maar maakt het voor de ophalers een stuk gemakkelijker. \n\n\n\nTijdens de inzameling komen we regelmatig dozen tegen die leeg zijn of waar maar een klein beetje papier in zit. Vooral na periodes waarin veel pakketten worden bezorgd – bijvoorbeeld rond de feestdagen – kan dit extra voorkomen. We zijn ontzettend blij met het grote aanbod\, maar het lukt soms nauwelijks om alles in één container te krijgen. \n\n\n\nDaarom vragen we uw hulp: wilt u lege dozen zoveel mogelijk plat maken door ze te snijden of te scheuren en het papier zo compact mogelijk in de papiercontainer aanbieden? Mocht het een keer niet allemaal in de container passen\, dan mag u het ook in een doos naast de container zetten. Dit levert veel extra ruimte op in de container en maakt het werk voor de vrijwilligers een stuk makkelijker. \n\n\n\nLet er daarnaast op dat er alleen papier en karton wordt aangeboden. Laat bijvoorbeeld geen piepschuim of ander verpakkingsmateriaal in dozen zitten\, want als dat wordt aangetroffen kan de hele partij worden afgekeurd. \n\n\n\nAlvast hartelijk dank voor uw medewerking! \n\n\n\nOud papiercommissie PITS 2.0Contactpersoon: Aries van der HelmTel: 06 29235137
URL:https://tjuchem.net/event/oud-papier-7/
CATEGORIES:Oud papier
ATTACH;FMTTYPE=image/jpeg:https://tjuchem.net/wp-content/uploads/2026/04/Oud-papier-1991-02.jpg
END:VEVENT
END:VCALENDAR